BEGIN:VCALENDAR
PRODID:www.fdp-nds.de
VERSION:2.0
CALSCALE:GREGORIAN
BEGIN:VEVENT
UID:6a6d7a99bb1c327682bde55bcf696453
DTSTAMP:20260425T024709Z
SUMMARY:Wahlkreismitgliederversammlung der FDP Oldenburg-Stadt
DTSTART:20260610T180000Z
DTEND:20260610T200000Z
LOCATION:Bümmersteder Krug\, Sandkruger Straße 180\, 26133 Oldenburg\, De
 utschland
X-MICROSOFT-LOCATIONDISPLAYNAME:Bümmersteder Krug\, Sandkruger Straße 180
 \, 26133 Oldenburg\, Deutschland
X-MICROSOFT-LOCATIONSTREET:Sandkruger Straße 180
X-MICROSOFT-LOCATIONPOSTALCODE:26133
X-MICROSOFT-LOCATIONCITY:Oldenburg
X-MICROSOFT-LOCATIONCOUNTRY:Deutschland
END:VEVENT
END:VCALENDAR
